BEGIN:VCALENDAR
VERSION:2.0
PRODID:-//Zlomvaz Wellness - ECPv6.15.20//NONSGML v1.0//EN
CALSCALE:GREGORIAN
METHOD:PUBLISH
X-ORIGINAL-URL:https://zlomvaz.cz/2022
X-WR-CALDESC:Akce na Zlomvaz Wellness
REFRESH-INTERVAL;VALUE=DURATION:PT1H
X-Robots-Tag:noindex
X-PUBLISHED-TTL:PT1H
BEGIN:VTIMEZONE
TZID:Europe/Prague
BEGIN:DAYLIGHT
TZOFFSETFROM:+0100
TZOFFSETTO:+0200
TZNAME:CEST
DTSTART:20210328T010000
END:DAYLIGHT
BEGIN:STANDARD
TZOFFSETFROM:+0200
TZOFFSETTO:+0100
TZNAME:CET
DTSTART:20211031T010000
END:STANDARD
BEGIN:DAYLIGHT
TZOFFSETFROM:+0100
TZOFFSETTO:+0200
TZNAME:CEST
DTSTART:20220327T010000
END:DAYLIGHT
BEGIN:STANDARD
TZOFFSETFROM:+0200
TZOFFSETTO:+0100
TZNAME:CET
DTSTART:20221030T010000
END:STANDARD
BEGIN:DAYLIGHT
TZOFFSETFROM:+0100
TZOFFSETTO:+0200
TZNAME:CEST
DTSTART:20230326T010000
END:DAYLIGHT
BEGIN:STANDARD
TZOFFSETFROM:+0200
TZOFFSETTO:+0100
TZNAME:CET
DTSTART:20231029T010000
END:STANDARD
END:VTIMEZONE
BEGIN:VEVENT
DTSTART;TZID=Europe/Prague:20220611T190000
DTEND;TZID=Europe/Prague:20220612T030000
DTSTAMP:20260423T141832
CREATED:20220611T170000Z
LAST-MODIFIED:20220602T102623Z
UID:284-1654974000-1655002800@zlomvaz.cz
SUMMARY:Závěrečná párty
DESCRIPTION:V průběhu večera se můžete těšit např. na Moniku Načevu společně s DJ Five\, na kapely Gondor Flames LABEL\, Safari Jazz Orchestra a DINGO\, nebo na DJ St. Jakoba a DJ POLYESTER. \nSoučástí programu bude také SLAM poetry se slamery: Anatol Svahilec\, Luka Leonardi a Thea. Možná přijde něco odříkat i super special DAMU guest. Přijďtě si poslechnout texty od mistrů svého řemesla a zároveň některých bývalých studentů naší katedry produkce. Duševní zdraví je pro slam hodně plodný téma. \nGondor Flames LABEL gondorský lumpové\, ukradnou vám rohlíky se sýrovkou a stáhnou o cíga. Na podiu jako Aragorn\, Legolas a Gimli přijíždějící s armádou mrtvých. Nechť zazní roh Helma Kladiva v Helmově žlebu naposled. \nSafari Jazz Orchestra hudebně improvizační těleso s fluidním počtem hráčů vzniklo na katedře alternativního a loutkového divadla DAMU. \nD I N G O Miska plná fazolí. Krádež koní za svitu luny. Ostruhy na botách. Pes utrženej ze řetězu. Černý kafe a panák tiskařský pálenky. Slzy a zlomený srdce. Lupínek Charlie. Hvězdy v očích a diamantovej náhrdelník. Onošený tričko. Tvoje rtěnka na rtech. Zemřít na pláži v Kalifornii a vrátit se k sobě. \nDJ St. Jakob rezident Ankali\, co hraje top. \nDJ POLYESTER písničky z druhých konců světa a zapomenutých časů. Polyester je pejsek a kočička\, probublávající lavina skrytých emocí a tužeb a estetika školní besídky se špetkou Rytmu života. Víš? Zpívej! Nevíš? Tancuj nebo se jen tak pohupuj a objevuj! Otevřeme svá srdce a odhoďme pózy! Vzdejme společně poctu starému dobrému braku a všem formám lásky\, formy a identity! Strhněme hranice\, které nás oddělují! Protože guilty pleasures nemají být guilty a parket je všude! \nMonika Načeva a DJ Five audiovizuální projekty a hudební interpreti\, kteří se ve své tvorbě věnují městské tematice. Společně vystupují již od roku 2007\, kdy jim vyšlo album Mami\, na kterém s nimi spolupracoval kytarista Michal Pavlíček. Přesně o deset let později se Načeva propojila s DJ Fivem také na albu Průvan v hlavě\, jež nahráli se slovenským producentem jménem Tentato. Hudebně improvizační těleso s fluidním počtem hráčů vzniklo na katedře alternativního a loutkového divadla DAMU. \n \nDJ Jakob\nDJ POLYESTER\nSafari Jazz Orchestra\nMonika Načeva + DJ Five\nDINGO\nGondor Flames LABEL
URL:https://zlomvaz.cz/2022/akce/zaverecna-party/
LOCATION:Altenburg 1964\, Partyzánská 18/23\, 170 00 Praha 7-Holešovice
CATEGORIES:Koncert
ATTACH;FMTTYPE=image/jpeg:https://zlomvaz.cz/2022/wp-content/uploads/2022/06/safari-jazz.jpeg
END:VEVENT
BEGIN:VEVENT
DTSTART;TZID=Europe/Prague:20220610T203000
DTEND;TZID=Europe/Prague:20220610T213000
DTSTAMP:20260423T141832
CREATED:20220428T112957Z
LAST-MODIFIED:20220519T100032Z
UID:282-1654893000-1654896600@zlomvaz.cz
SUMMARY:Treska jednoskvrná
DESCRIPTION:Máš toho v poslední době moc? Škola\, práce\, málo sexu\, moc smogu ve vzduchu a prostě se ti špatně dýchá? Přijdeš si jako ryba na suchu? Nech tyhle pocity vybublat na Wellness s Treskou Jednoskvrnnou. \n  \n  \nVstupné zdarma
URL:https://zlomvaz.cz/2022/akce/treska-jednoskvrna/
LOCATION:Střecha DISKu
CATEGORIES:Koncert
ATTACH;FMTTYPE=image/jpeg:https://zlomvaz.cz/2022/wp-content/uploads/2022/04/Treska_jednoskvrnna.jpg
END:VEVENT
BEGIN:VEVENT
DTSTART;TZID=Europe/Prague:20220610T173000
DTEND;TZID=Europe/Prague:20220610T183000
DTSTAMP:20260423T141832
CREATED:20220428T112838Z
LAST-MODIFIED:20220509T150128Z
UID:279-1654882200-1654885800@zlomvaz.cz
SUMMARY:9 kg přibrala
DESCRIPTION:Naivní new-wave – Fúze Vangelise s hudbou od táboráku. Energické motivy se zvukem těch nejlepších free-to-use synťákových pluginů\, rozněžnělé texty a věčná bezstarostnost. \n  \n  \nVstupné zdarma
URL:https://zlomvaz.cz/2022/akce/9kg-pribrala/
LOCATION:Střecha DISKu
CATEGORIES:Koncert
ATTACH;FMTTYPE=image/jpeg:https://zlomvaz.cz/2022/wp-content/uploads/2022/04/9kgpribrala.jpeg
END:VEVENT
BEGIN:VEVENT
DTSTART;TZID=Europe/Prague:20220610T000000
DTEND;TZID=Europe/Prague:20220610T010000
DTSTAMP:20260423T141832
CREATED:20220502T203300Z
LAST-MODIFIED:20220504T075403Z
UID:397-1654819200-1654822800@zlomvaz.cz
SUMMARY:DJ EL
DESCRIPTION:Produkční jako DJ? I to je možné. Nechte se s Elisou unášet na vlně housových beatů. \n  \n  \nVstupné zdarma
URL:https://zlomvaz.cz/2022/akce/dj-el/
LOCATION:R102
CATEGORIES:Koncert
ATTACH;FMTTYPE=image/jpeg:https://zlomvaz.cz/2022/wp-content/uploads/2022/05/DJ_EL.jpeg
END:VEVENT
BEGIN:VEVENT
DTSTART;TZID=Europe/Prague:20220609T230000
DTEND;TZID=Europe/Prague:20220610T000000
DTSTAMP:20260423T141832
CREATED:20220502T202755Z
LAST-MODIFIED:20220504T175204Z
UID:394-1654815600-1654819200@zlomvaz.cz
SUMMARY:Dominik Sosnovec
DESCRIPTION:Kombinuje hraní na kytaru s looperem\, synťákem a drum machinem. Spíše zvuková koláž než jasná melodie. Více nálada a představivost než chytlavost a hitovost. \n  \n  \nVstup zdarma
URL:https://zlomvaz.cz/2022/akce/dominik-sosnovec/
LOCATION:R102
CATEGORIES:Koncert
ATTACH;FMTTYPE=image/jpeg:https://zlomvaz.cz/2022/wp-content/uploads/2022/05/Dominik-Sosnovec1.jpeg
END:VEVENT
BEGIN:VEVENT
DTSTART;TZID=Europe/Prague:20220609T220000
DTEND;TZID=Europe/Prague:20220609T230000
DTSTAMP:20260423T141832
CREATED:20220428T112729Z
LAST-MODIFIED:20220509T145357Z
UID:275-1654812000-1654815600@zlomvaz.cz
SUMMARY:Kvietah
DESCRIPTION:Kvietah\, Magdalena Fendrychová je pražská skladatelka a textařka. Zpívá o věcech všedních pomocí nevšedních obrazů. Její písně jsou žánrově někde mezi Indie rockem a popem. \n  \n  \nVstupné zdarma
URL:https://zlomvaz.cz/2022/akce/kvietah/
LOCATION:R102
CATEGORIES:Koncert
ATTACH;FMTTYPE=image/jpeg:https://zlomvaz.cz/2022/wp-content/uploads/2022/04/Kvietah.jpeg
END:VEVENT
BEGIN:VEVENT
DTSTART;TZID=Europe/Prague:20220609T213000
DTEND;TZID=Europe/Prague:20220609T220000
DTSTAMP:20260423T141832
CREATED:20220428T112555Z
LAST-MODIFIED:20220504T080014Z
UID:272-1654810200-1654812000@zlomvaz.cz
SUMMARY:Beatbox - The Summit
DESCRIPTION:Petr Kapoun\, Ondřej Nápravník \nElektronická hudba bez nástrojů? \nCo dokáže lidské tělo. \nBeatbox jak ho neznáte. \n  \n  \nVstup zdarma
URL:https://zlomvaz.cz/2022/akce/beatbox-the-summit/
CATEGORIES:Koncert
ATTACH;FMTTYPE=image/jpeg:https://zlomvaz.cz/2022/wp-content/uploads/2022/04/TheSummit.jpeg
END:VEVENT
BEGIN:VEVENT
DTSTART;TZID=Europe/Prague:20220608T220000
DTEND;TZID=Europe/Prague:20220609T030000
DTSTAMP:20260423T141832
CREATED:20220608T200000Z
LAST-MODIFIED:20220519T100258Z
UID:175-1654725600-1654743600@zlomvaz.cz
SUMMARY:Zahajovací párty
DESCRIPTION:V průběhu večera se můžete těšit na kapely Holinky a Tygroo nebo na DJ ŠatySVlečkou. \n  \n10:00 – 11:00 Holinky \nKlezmer\, swing\, balkánský\, rusínský\, ruský a romský folklor Muzikanti z Holinek\, ač různého žánrového zaměření\, setkali se na pražské hudební scéně\, by sobě zahráli různou hudbu světovou. Svůj rozličný repertoár předvádějí na koncertech\, snových představeních\, v masopustních průvodech či jiných veselicích. Ve složení tuba\, bicí\, akordeon\, klarinet a housle potěší každý večírek\, jakož i podtrhnou romantickou situaci tzv. tanečního ploužení. Holinky jsou Kapela na vaše svatby i pohřby. Kapela koncertní i doprovodná. \n12:00 – 1:00 Tygroo \nDrum’n’Brass – vynalézavě kombinuje tradiční žánry jako klezmer a balkánskou hudbu s žánry moderními\, jako jsou například funk a hiphop\, ale také dubstep a další elektronická hudba. To vše hrají na akustické nástroje\, především dechy a bicí\, což kapele dodává velmi výraznou barvu a energii\, jejíž vlny vás zanesou tu do New Orleans\, tu na Guču nebo do Oděsy\, tu zas do newyorského metra. Přijďte si poslechnout Klezmer-Funk\, Balkan-Jungle\, Jazz-Dubstep\, Brasshouse\, Cave Music\, Trashdisco a kdo ví co ještě! \n1:00 – 3:00 DJ ŠatySVlečkou \nMileniálský guilty pleasure\, 90s\, 80s\, funky\, breakbeat\, house\, soundtrack z Popelky a zapomenutý songy\, co znáte z puberty. Písničky\, co milujete\, ale stydíte se to přiznat. Tracky hozený do kouzelnýho osudí\, ze kterýho se vracej zpátky v nečekaným rock’n’rollovým sledu\, aby vás cvrnkli do nosu.
URL:https://zlomvaz.cz/2022/akce/zahajovaci-party/
LOCATION:R102
CATEGORIES:Koncert
ATTACH;FMTTYPE=image/jpeg:https://zlomvaz.cz/2022/wp-content/uploads/2022/06/Tygroo_.jpg
END:VEVENT
BEGIN:VEVENT
DTSTART;TZID=Europe/Prague:20220608T183000
DTEND;TZID=Europe/Prague:20220608T193000
DTSTAMP:20260423T141832
CREATED:20220502T201335Z
LAST-MODIFIED:20220504T075809Z
UID:383-1654713000-1654716600@zlomvaz.cz
SUMMARY:PS - romské lidové i nelidové písně
DESCRIPTION:Romské lidové a nelidové písně. Žár\, temperament\, rytmus a pot! Divoké vášně roztančí i rybí krev. Většina pracuje ve Výchovném ústavu v Kutné Hoře. Dosavadní zkušenosti s hraním za hranicemi nejen Kutné Hory: Berlín. Na to\, co znamená zkratka PS máme každý jiný názor. \n  \n  \nVstup zdarma
URL:https://zlomvaz.cz/2022/akce/ps-romske-lidove-i-nelidove-pisne/
LOCATION:Střecha DISKu
CATEGORIES:Koncert
ATTACH;FMTTYPE=image/jpeg:https://zlomvaz.cz/2022/wp-content/uploads/2022/06/PS.jpeg
END:VEVENT
END:VCALENDAR