BEGIN:VCALENDAR
VERSION:2.0
PRODID:-//Zlomvaz Wellness - ECPv6.15.20//NONSGML v1.0//EN
CALSCALE:GREGORIAN
METHOD:PUBLISH
X-ORIGINAL-URL:https://zlomvaz.cz/2022
X-WR-CALDESC:Akce na Zlomvaz Wellness
REFRESH-INTERVAL;VALUE=DURATION:PT1H
X-Robots-Tag:noindex
X-PUBLISHED-TTL:PT1H
BEGIN:VTIMEZONE
TZID:Europe/Prague
BEGIN:DAYLIGHT
TZOFFSETFROM:+0100
TZOFFSETTO:+0200
TZNAME:CEST
DTSTART:20210328T010000
END:DAYLIGHT
BEGIN:STANDARD
TZOFFSETFROM:+0200
TZOFFSETTO:+0100
TZNAME:CET
DTSTART:20211031T010000
END:STANDARD
BEGIN:DAYLIGHT
TZOFFSETFROM:+0100
TZOFFSETTO:+0200
TZNAME:CEST
DTSTART:20220327T010000
END:DAYLIGHT
BEGIN:STANDARD
TZOFFSETFROM:+0200
TZOFFSETTO:+0100
TZNAME:CET
DTSTART:20221030T010000
END:STANDARD
BEGIN:DAYLIGHT
TZOFFSETFROM:+0100
TZOFFSETTO:+0200
TZNAME:CEST
DTSTART:20230326T010000
END:DAYLIGHT
BEGIN:STANDARD
TZOFFSETFROM:+0200
TZOFFSETTO:+0100
TZNAME:CET
DTSTART:20231029T010000
END:STANDARD
END:VTIMEZONE
BEGIN:VEVENT
DTSTART;TZID=Europe/Prague:20220611T150000
DTEND;TZID=Europe/Prague:20220611T163000
DTSTAMP:20260423T141623
CREATED:20220427T083723Z
LAST-MODIFIED:20220504T100448Z
UID:170-1654959600-1654965000@zlomvaz.cz
SUMMARY:Čokoládová koupel
DESCRIPTION:Neformální diskuse o štěstí\, překonávání stresu a (sebe)péči v divadelním provozu. Jak nevyhořet\, jak se nevyčerpat\, jak se nepřetížit\, jak se nezničit. Spektrum každodenních rituálů pro úspěšné procházení adrenalinovými situacemi. Diskusní katalog dobrých příkladů z praxe. \nDiskutovat budou herečka a ambasadorka FESTIVALU ZLOMVAZ Denisa Barešová\, nová ředitelka Divadla DISK Viktorie Schmoranzová\, psycholog DAMU Martin Sedláček a student režie na KALD DAMU a zakladatel iniciativy Studenti pro Ukrajinu Tobiáš Nevřiva. Moderuje Karolina Plicková. \nVstup je zdarma
URL:https://zlomvaz.cz/2022/akce/cokoladova-koupel/
LOCATION:Střecha DISKu
CATEGORIES:Diskuze
ATTACH;FMTTYPE=image/jpeg:https://zlomvaz.cz/2022/wp-content/uploads/2022/04/Cokoladova-koupel.jpg
END:VEVENT
BEGIN:VEVENT
DTSTART;TZID=Europe/Prague:20220608T170000
DTEND;TZID=Europe/Prague:20220608T193000
DTSTAMP:20260423T141623
CREATED:20220427T083532Z
LAST-MODIFIED:20220523T143041Z
UID:167-1654707600-1654716600@zlomvaz.cz
SUMMARY:Beseda moje jméno není diagnóza: život s duševním onemocněním v prostředí divadla
DESCRIPTION:Život s duševním onemocněním: divadlo\, práce a realita Jaké je to žít s diagnózou duševního onemocnění? Jak taková zkušenost ovlivní osobní a profesní život? Jak přívětivé je prostředí divadla a filmu? Čelí lidé s duševní nemocí často předsudkům a stigmatizaci? Na tyto a další otázky budou odpovídat hosté besedy\, kteří mají sami zkušenost s duševním onemocněním a studují či pracují v divadelních profesích. \nDebaty se zúčastní např. Marie-Luisa Purkrábková nebo Elisa Speváková. \nVstup je zdarma
URL:https://zlomvaz.cz/2022/akce/moje-jmeno-neni-diagnoza/
LOCATION:S111
CATEGORIES:Diskuze
ATTACH;FMTTYPE=image/jpeg:https://zlomvaz.cz/2022/wp-content/uploads/2022/04/125072674_3938859389460652_7719686378593232372_n.jpg
END:VEVENT
END:VCALENDAR